Package: BaalChIP Version: 1.34.0 Command: /Library/Frameworks/R.framework/Resources/bin/R CMD check --install=check:BaalChIP.install-out.txt --library=/Library/Frameworks/R.framework/Resources/library --no-vignettes --timings BaalChIP_1.34.0.tar.gz StartedAt: 2025-09-30 00:12:39 -0400 (Tue, 30 Sep 2025) EndedAt: 2025-09-30 00:38:11 -0400 (Tue, 30 Sep 2025) EllapsedTime: 1532.0 seconds RetCode: 0 Status: WARNINGS CheckDir: BaalChIP.Rcheck Warnings: 1