Package: BaalChIP Version: 1.34.0 Command: /Library/Frameworks/R.framework/Resources/bin/R CMD build --keep-empty-dirs --no-resave-data BaalChIP StartedAt: 2025-09-29 17:07:24 -0400 (Mon, 29 Sep 2025) EndedAt: 2025-09-29 17:11:54 -0400 (Mon, 29 Sep 2025) EllapsedTime: 270.0 seconds RetCode: 0 Status: OK PackageFile: BaalChIP_1.34.0.tar.gz PackageFileSize: 45.31 MiB