Package: BaalChIP Version: 1.34.0 Command: /Library/Frameworks/R.framework/Resources/bin/R CMD INSTALL BaalChIP StartedAt: 2025-10-06 16:39:53 -0400 (Mon, 06 Oct 2025) EndedAt: 2025-10-06 16:41:21 -0400 (Mon, 06 Oct 2025) EllapsedTime: 88.1 seconds RetCode: 0 Status: OK