Package: BaalChIP Version: 1.34.0 Command: rm -rf BaalChIP.buildbin-libdir && mkdir BaalChIP.buildbin-libdir && /Users/biocbuild/BBS/utils/build-universal.sh BaalChIP_1.34.0.tar.gz /Library/Frameworks/R.framework/Resources/bin/R BaalChIP.buildbin-libdir StartedAt: 2025-10-08 19:47:25 -0400 (Wed, 08 Oct 2025) EndedAt: 2025-10-08 19:49:14 -0400 (Wed, 08 Oct 2025) EllapsedTime: 109.9 seconds RetCode: 0 Status: OK PackageFile: BaalChIP_1.34.0.tgz PackageFileSize: 100.2 MiB