Package: BUSpaRse Version: 1.22.1 Command: /home/biocbuild/bbs-3.21-bioc/R/bin/R CMD check --install=check:BUSpaRse.install-out.txt --library=/home/biocbuild/bbs-3.21-bioc/R/site-library --timings BUSpaRse_1.22.1.tar.gz StartedAt: 2025-09-03 21:18:57 -0400 (Wed, 03 Sep 2025) EndedAt: 2025-09-03 21:25:45 -0400 (Wed, 03 Sep 2025) EllapsedTime: 408.5 seconds RetCode: 1 Status: ERROR CheckDir: BUSpaRse.Rcheck Warnings: NA