Package: BUSpaRse Version: 1.22.1 Command: rm -rf BUSpaRse.buildbin-libdir && mkdir BUSpaRse.buildbin-libdir && /Users/biocbuild/BBS/utils/build-universal.sh BUSpaRse_1.22.1.tar.gz /Library/Frameworks/R.framework/Resources/bin/R BUSpaRse.buildbin-libdir StartedAt: 2025-09-05 14:03:50 -0400 (Fri, 05 Sep 2025) EndedAt: 2025-09-05 14:07:12 -0400 (Fri, 05 Sep 2025) EllapsedTime: 201.8 seconds RetCode: 0 Status: OK PackageFile: BUSpaRse_1.22.1.tgz PackageFileSize: 846.1 KiB