Package: BUSpaRse Version: 1.22.0 Command: /Library/Frameworks/R.framework/Resources/bin/R CMD INSTALL BUSpaRse StartedAt: 2025-04-21 15:32:46 -0400 (Mon, 21 Apr 2025) EndedAt: 2025-04-21 15:34:00 -0400 (Mon, 21 Apr 2025) EllapsedTime: 74.0 seconds RetCode: 0 Status: OK