Package: BUSpaRse Version: 1.22.0 Command: /Library/Frameworks/R.framework/Resources/bin/R CMD check --install=check:BUSpaRse.install-out.txt --library=/Library/Frameworks/R.framework/Resources/library --no-vignettes --timings BUSpaRse_1.22.0.tar.gz StartedAt: 2025-04-21 19:31:17 -0400 (Mon, 21 Apr 2025) EndedAt: 2025-04-21 19:39:32 -0400 (Mon, 21 Apr 2025) EllapsedTime: 495.0 seconds RetCode: 0 Status: OK CheckDir: BUSpaRse.Rcheck Warnings: 0