Package: BUS Version: 1.64.0 Command: rm -rf BUS.buildbin-libdir && mkdir BUS.buildbin-libdir && E:\biocbuild\bbs-3.21-bioc\R\bin\R.exe CMD INSTALL --build --library=BUS.buildbin-libdir BUS_1.64.0.tar.gz StartedAt: 2025-08-15 08:54:29 -0400 (Fri, 15 Aug 2025) EndedAt: 2025-08-15 08:54:41 -0400 (Fri, 15 Aug 2025) EllapsedTime: 12.0 seconds RetCode: 0 Status: OK PackageFile: BUS_1.64.0.zip PackageFileSize: 1.857 MiB