Package: BUS Version: 1.64.0 Command: /Library/Frameworks/R.framework/Resources/bin/R CMD check --install=check:BUS.install-out.txt --library=/Library/Frameworks/R.framework/Resources/library --no-vignettes --timings BUS_1.64.0.tar.gz StartedAt: 2025-10-14 00:58:21 -0400 (Tue, 14 Oct 2025) EndedAt: 2025-10-14 00:59:06 -0400 (Tue, 14 Oct 2025) EllapsedTime: 45.3 seconds RetCode: 0 Status: OK CheckDir: BUS.Rcheck Warnings: 0