Package: BUS Version: 1.64.0 Command: /home/biocbuild/R/R/bin/R CMD INSTALL BUS StartedAt: 2025-10-13 20:22:56 -0000 (Mon, 13 Oct 2025) EndedAt: 2025-10-13 20:23:00 -0000 (Mon, 13 Oct 2025) EllapsedTime: 4.1 seconds RetCode: 0 Status: OK