Package: BUS Version: 1.64.0 Command: /home/biocbuild/R/R/bin/R CMD build --keep-empty-dirs --no-resave-data BUS StartedAt: 2025-10-13 23:18:09 -0000 (Mon, 13 Oct 2025) EndedAt: 2025-10-13 23:18:18 -0000 (Mon, 13 Oct 2025) EllapsedTime: 9.0 seconds RetCode: 0 Status: OK PackageFile: BUS_1.64.0.tar.gz PackageFileSize: 2.815 MiB