Package: BUMHMM Version: 1.32.0 Command: /Library/Frameworks/R.framework/Resources/bin/R CMD check --install=check:BUMHMM.install-out.txt --library=/Library/Frameworks/R.framework/Resources/library --no-vignettes --timings BUMHMM_1.32.0.tar.gz StartedAt: 2025-10-14 00:57:46 -0400 (Tue, 14 Oct 2025) EndedAt: 2025-10-14 01:04:27 -0400 (Tue, 14 Oct 2025) EllapsedTime: 401.5 seconds RetCode: 0 Status: OK CheckDir: BUMHMM.Rcheck Warnings: 0