Package: BSgenomeForge Version: 1.8.1 Command: /home/biocbuild/bbs-3.21-bioc/R/bin/R CMD check --install=check:BSgenomeForge.install-out.txt --library=/home/biocbuild/bbs-3.21-bioc/R/site-library --timings BSgenomeForge_1.8.1.tar.gz StartedAt: 2025-10-15 21:22:14 -0400 (Wed, 15 Oct 2025) EndedAt: 2025-10-15 21:26:49 -0400 (Wed, 15 Oct 2025) EllapsedTime: 274.4 seconds RetCode: 0 Status: OK CheckDir: BSgenomeForge.Rcheck Warnings: 0