Package: BSgenomeForge Version: 1.8.1 Command: /Library/Frameworks/R.framework/Resources/bin/R CMD check --install=check:BSgenomeForge.install-out.txt --library=/Library/Frameworks/R.framework/Resources/library --no-vignettes --timings BSgenomeForge_1.8.1.tar.gz StartedAt: 2025-10-14 00:56:19 -0400 (Tue, 14 Oct 2025) EndedAt: 2025-10-14 01:04:20 -0400 (Tue, 14 Oct 2025) EllapsedTime: 480.8 seconds RetCode: 0 Status: OK CheckDir: BSgenomeForge.Rcheck Warnings: 0