Package: BSgenomeForge Version: 1.8.1 Command: rm -rf BSgenomeForge.buildbin-libdir && mkdir BSgenomeForge.buildbin-libdir && /Users/biocbuild/BBS/utils/build-universal.sh BSgenomeForge_1.8.1.tar.gz /Library/Frameworks/R.framework/Resources/bin/R BSgenomeForge.buildbin-libdir StartedAt: 2025-10-14 12:57:06 -0400 (Tue, 14 Oct 2025) EndedAt: 2025-10-14 12:58:15 -0400 (Tue, 14 Oct 2025) EllapsedTime: 68.4 seconds RetCode: 0 Status: OK PackageFile: BSgenomeForge_1.8.1.tgz PackageFileSize: 807.8 KiB