Package: BSgenomeForge Version: 1.8.0 Command: /Library/Frameworks/R.framework/Resources/bin/R CMD check --install=check:BSgenomeForge.install-out.txt --library=/Library/Frameworks/R.framework/Resources/library --no-vignettes --timings BSgenomeForge_1.8.0.tar.gz StartedAt: 2025-04-21 19:29:37 -0400 (Mon, 21 Apr 2025) EndedAt: 2025-04-21 19:34:24 -0400 (Mon, 21 Apr 2025) EllapsedTime: 287.3 seconds RetCode: 0 Status: OK CheckDir: BSgenomeForge.Rcheck Warnings: 0