Package: BSgenomeForge Version: 1.8.0 Command: rm -rf BSgenomeForge.buildbin-libdir && mkdir BSgenomeForge.buildbin-libdir && /Users/biocbuild/BBS/utils/build-universal.sh BSgenomeForge_1.8.0.tar.gz /Library/Frameworks/R.framework/Resources/bin/R BSgenomeForge.buildbin-libdir StartedAt: 2025-04-22 00:36:17 -0400 (Tue, 22 Apr 2025) EndedAt: 2025-04-22 00:37:04 -0400 (Tue, 22 Apr 2025) EllapsedTime: 46.4 seconds RetCode: 0 Status: OK PackageFile: BSgenomeForge_1.8.0.tgz PackageFileSize: 809.8 KiB