Package: BSgenomeForge Version: 1.8.1 Command: /home/biocbuild/R/R/bin/R CMD check --install=check:BSgenomeForge.install-out.txt --library=/home/biocbuild/R/R/site-library --no-vignettes --timings BSgenomeForge_1.8.1.tar.gz StartedAt: 2025-10-14 07:04:07 -0000 (Tue, 14 Oct 2025) EndedAt: 2025-10-14 07:11:26 -0000 (Tue, 14 Oct 2025) EllapsedTime: 439.3 seconds RetCode: 0 Status: OK CheckDir: BSgenomeForge.Rcheck Warnings: 0