Package: BSgenome Version: 1.76.0 Command: rm -rf BSgenome.buildbin-libdir && mkdir BSgenome.buildbin-libdir && /Users/biocbuild/BBS/utils/build-universal.sh BSgenome_1.76.0.tar.gz /Library/Frameworks/R.framework/Resources/bin/R BSgenome.buildbin-libdir StartedAt: 2025-04-22 00:36:16 -0400 (Tue, 22 Apr 2025) EndedAt: 2025-04-22 00:37:15 -0400 (Tue, 22 Apr 2025) EllapsedTime: 58.9 seconds RetCode: 0 Status: OK PackageFile: BSgenome_1.76.0.tgz PackageFileSize: 6.968 MiB