Package: BSgenome Version: 1.76.0 Command: /home/biocbuild/R/R/bin/R CMD check --install=check:BSgenome.install-out.txt --library=/home/biocbuild/R/R/site-library --no-vignettes --timings BSgenome_1.76.0.tar.gz StartedAt: 2025-10-14 07:04:07 -0000 (Tue, 14 Oct 2025) EndedAt: 2025-10-14 07:11:40 -0000 (Tue, 14 Oct 2025) EllapsedTime: 453.3 seconds RetCode: 0 Status: WARNINGS CheckDir: BSgenome.Rcheck Warnings: 1