Package: BSgenome Version: 1.76.0 Command: rm -rf BSgenome.buildbin-libdir && mkdir BSgenome.buildbin-libdir && /Users/biocbuild/BBS/utils/build-universal.sh BSgenome_1.76.0.tar.gz /Library/Frameworks/R.framework/Resources/bin/R BSgenome.buildbin-libdir StartedAt: 2025-04-21 22:28:20 -0400 (Mon, 21 Apr 2025) EndedAt: 2025-04-21 22:28:37 -0400 (Mon, 21 Apr 2025) EllapsedTime: 17.4 seconds RetCode: 0 Status: OK PackageFile: BSgenome_1.76.0.tgz PackageFileSize: 6.969 MiB