Package: BRAIN Version: 1.54.0 Command: /Library/Frameworks/R.framework/Resources/bin/R CMD check --install=check:BRAIN.install-out.txt --library=/Library/Frameworks/R.framework/Resources/library --no-vignettes --timings BRAIN_1.54.0.tar.gz StartedAt: 2025-04-21 19:27:37 -0400 (Mon, 21 Apr 2025) EndedAt: 2025-04-21 19:28:58 -0400 (Mon, 21 Apr 2025) EllapsedTime: 80.8 seconds RetCode: 0 Status: WARNINGS CheckDir: BRAIN.Rcheck Warnings: 2