Package: BPRMeth Version: 1.34.0 Command: E:\biocbuild\bbs-3.21-bioc\R\bin\R.exe CMD check --no-multiarch --install=check:BPRMeth.install-out.txt --library=E:\biocbuild\bbs-3.21-bioc\R\library --no-vignettes --timings BPRMeth_1.34.0.tar.gz StartedAt: 2025-08-15 00:06:41 -0400 (Fri, 15 Aug 2025) EndedAt: 2025-08-15 00:10:39 -0400 (Fri, 15 Aug 2025) EllapsedTime: 238.2 seconds RetCode: 0 Status: OK CheckDir: BPRMeth.Rcheck Warnings: 0