Package: BPRMeth Version: 1.34.0 Command: chmod a+r BPRMeth -R && E:\biocbuild\bbs-3.21-bioc\R\bin\R.exe CMD build --keep-empty-dirs --no-resave-data BPRMeth StartedAt: 2025-08-14 17:45:01 -0400 (Thu, 14 Aug 2025) EndedAt: 2025-08-14 17:48:01 -0400 (Thu, 14 Aug 2025) EllapsedTime: 179.8 seconds RetCode: 0 Status: OK PackageFile: BPRMeth_1.34.0.tar.gz PackageFileSize: 2.48 MiB