Package: BPRMeth Version: 1.34.0 Command: rm -rf BPRMeth.buildbin-libdir && mkdir BPRMeth.buildbin-libdir && E:\biocbuild\bbs-3.21-bioc\R\bin\R.exe CMD INSTALL --build --library=BPRMeth.buildbin-libdir BPRMeth_1.34.0.tar.gz StartedAt: 2025-08-15 08:53:30 -0400 (Fri, 15 Aug 2025) EndedAt: 2025-08-15 08:54:27 -0400 (Fri, 15 Aug 2025) EllapsedTime: 56.6 seconds RetCode: 0 Status: OK PackageFile: BPRMeth_1.34.0.zip PackageFileSize: 3.314 MiB