Package: BLMA Version: 1.32.0 Command: /Library/Frameworks/R.framework/Resources/bin/R CMD check --install=check:BLMA.install-out.txt --library=/Library/Frameworks/R.framework/Resources/library --no-vignettes --timings BLMA_1.32.0.tar.gz StartedAt: 2025-10-14 00:48:45 -0400 (Tue, 14 Oct 2025) EndedAt: 2025-10-14 01:04:21 -0400 (Tue, 14 Oct 2025) EllapsedTime: 935.8 seconds RetCode: 0 Status: OK CheckDir: BLMA.Rcheck Warnings: 0