Package: BG2 Version: 1.8.0 Command: E:\biocbuild\bbs-3.21-bioc\R\bin\R.exe CMD check --no-multiarch --install=check:BG2.install-out.txt --library=E:\biocbuild\bbs-3.21-bioc\R\library --no-vignettes --timings BG2_1.8.0.tar.gz StartedAt: 2025-08-14 23:45:16 -0400 (Thu, 14 Aug 2025) EndedAt: 2025-08-14 23:58:23 -0400 (Thu, 14 Aug 2025) EllapsedTime: 787.2 seconds RetCode: 0 Status: OK CheckDir: BG2.Rcheck Warnings: 0