Package: BG2 Version: 1.8.0 Command: /home/biocbuild/bbs-3.21-bioc/R/bin/R CMD INSTALL BG2 StartedAt: 2025-10-15 15:09:11 -0400 (Wed, 15 Oct 2025) EndedAt: 2025-10-15 15:09:23 -0400 (Wed, 15 Oct 2025) EllapsedTime: 12.3 seconds RetCode: 0 Status: OK