Package: BG2 Version: 1.8.0 Command: /home/biocbuild/bbs-3.21-bioc/R/bin/R CMD build --keep-empty-dirs --no-resave-data BG2 StartedAt: 2025-10-15 16:22:23 -0400 (Wed, 15 Oct 2025) EndedAt: 2025-10-15 16:31:48 -0400 (Wed, 15 Oct 2025) EllapsedTime: 564.5 seconds RetCode: 0 Status: OK PackageFile: BG2_1.8.0.tar.gz PackageFileSize: 1.131 MiB