Package: BG2 Version: 1.8.0 Command: /Library/Frameworks/R.framework/Resources/bin/R CMD check --install=check:BG2.install-out.txt --library=/Library/Frameworks/R.framework/Resources/library --no-vignettes --timings BG2_1.8.0.tar.gz StartedAt: 2025-10-14 13:54:27 -0400 (Tue, 14 Oct 2025) EndedAt: 2025-10-14 14:06:52 -0400 (Tue, 14 Oct 2025) EllapsedTime: 744.4 seconds RetCode: 0 Status: OK CheckDir: BG2.Rcheck Warnings: 0