Package: BG2 Version: 1.8.0 Command: rm -rf BG2.buildbin-libdir && mkdir BG2.buildbin-libdir && /Users/biocbuild/BBS/utils/build-universal.sh BG2_1.8.0.tar.gz /Library/Frameworks/R.framework/Resources/bin/R BG2.buildbin-libdir StartedAt: 2025-10-15 17:34:11 -0400 (Wed, 15 Oct 2025) EndedAt: 2025-10-15 17:34:17 -0400 (Wed, 15 Oct 2025) EllapsedTime: 5.8 seconds RetCode: 0 Status: OK PackageFile: BG2_1.8.0.tgz PackageFileSize: 1.165 MiB