Package: BEclear Version: 2.24.0 Command: E:\biocbuild\bbs-3.21-bioc\R\bin\R.exe CMD check --no-multiarch --install=check:BEclear.install-out.txt --library=E:\biocbuild\bbs-3.21-bioc\R\library --no-vignettes --timings BEclear_2.24.0.tar.gz StartedAt: 2025-08-14 23:43:36 -0400 (Thu, 14 Aug 2025) EndedAt: 2025-08-14 23:45:17 -0400 (Thu, 14 Aug 2025) EllapsedTime: 101.5 seconds RetCode: 0 Status: OK CheckDir: BEclear.Rcheck Warnings: 0