Package: BEclear Version: 2.24.0 Command: /home/biocbuild/bbs-3.21-bioc/R/bin/R CMD build --keep-empty-dirs --no-resave-data BEclear StartedAt: 2025-10-15 16:21:05 -0400 (Wed, 15 Oct 2025) EndedAt: 2025-10-15 16:21:29 -0400 (Wed, 15 Oct 2025) EllapsedTime: 24.0 seconds RetCode: 0 Status: OK PackageFile: BEclear_2.24.0.tar.gz PackageFileSize: 722.1 KiB