Package: BEclear Version: 2.24.0 Command: /home/biocbuild/R/R/bin/R CMD INSTALL BEclear StartedAt: 2025-10-13 20:15:52 -0000 (Mon, 13 Oct 2025) EndedAt: 2025-10-13 20:16:15 -0000 (Mon, 13 Oct 2025) EllapsedTime: 23.6 seconds RetCode: 0 Status: OK