Package: BEclear Version: 2.24.0 Command: /home/biocbuild/R/R/bin/R CMD check --install=check:BEclear.install-out.txt --library=/home/biocbuild/R/R/site-library --no-vignettes --timings BEclear_2.24.0.tar.gz StartedAt: 2025-10-14 06:34:28 -0000 (Tue, 14 Oct 2025) EndedAt: 2025-10-14 06:36:23 -0000 (Tue, 14 Oct 2025) EllapsedTime: 114.2 seconds RetCode: 0 Status: OK CheckDir: BEclear.Rcheck Warnings: 0