Package: BEclear Version: 2.24.0 Command: /home/biocbuild/R/R/bin/R CMD build --keep-empty-dirs --no-resave-data BEclear StartedAt: 2025-10-13 22:56:24 -0000 (Mon, 13 Oct 2025) EndedAt: 2025-10-13 22:56:57 -0000 (Mon, 13 Oct 2025) EllapsedTime: 33.0 seconds RetCode: 0 Status: OK PackageFile: BEclear_2.24.0.tar.gz PackageFileSize: 781.2 KiB