Package: BEAT Version: 1.46.0 Command: /Library/Frameworks/R.framework/Resources/bin/R CMD INSTALL BEAT StartedAt: 2025-04-21 15:39:47 -0400 (Mon, 21 Apr 2025) EndedAt: 2025-04-21 15:40:37 -0400 (Mon, 21 Apr 2025) EllapsedTime: 50.0 seconds RetCode: 0 Status: OK