Package: BEARscc Version: 1.28.0 Command: /home/biocbuild/R/R/bin/R CMD INSTALL BEARscc StartedAt: 2025-10-13 20:45:52 -0000 (Mon, 13 Oct 2025) EndedAt: 2025-10-13 20:46:38 -0000 (Mon, 13 Oct 2025) EllapsedTime: 46.4 seconds RetCode: 0 Status: OK