Package: BANDITS Version: 1.24.1 Command: /Library/Frameworks/R.framework/Resources/bin/R CMD INSTALL BANDITS StartedAt: 2025-10-13 16:00:51 -0400 (Mon, 13 Oct 2025) EndedAt: 2025-10-13 16:02:48 -0400 (Mon, 13 Oct 2025) EllapsedTime: 116.2 seconds RetCode: 0 Status: OK