Package: BANDITS Version: 1.24.0 Command: /Library/Frameworks/R.framework/Resources/bin/R CMD build --keep-empty-dirs --no-resave-data BANDITS StartedAt: 2025-04-21 15:59:13 -0400 (Mon, 21 Apr 2025) EndedAt: 2025-04-21 16:01:55 -0400 (Mon, 21 Apr 2025) EllapsedTime: 162.2 seconds RetCode: 0 Status: OK PackageFile: BANDITS_1.24.0.tar.gz PackageFileSize: 1.217 MiB