Package: BANDITS Version: 1.24.1 Command: /home/biocbuild/R/R/bin/R CMD build --keep-empty-dirs --no-resave-data BANDITS StartedAt: 2025-10-13 22:43:33 -0000 (Mon, 13 Oct 2025) EndedAt: 2025-10-13 22:47:31 -0000 (Mon, 13 Oct 2025) EllapsedTime: 238.1 seconds RetCode: 0 Status: OK PackageFile: BANDITS_1.24.1.tar.gz PackageFileSize: 1.256 MiB