Package: BANDITS Version: 1.24.1 Command: rm -rf BANDITS.buildbin-libdir && mkdir BANDITS.buildbin-libdir && /Users/biocbuild/BBS/utils/build-universal.sh BANDITS_1.24.1.tar.gz /Library/Frameworks/R.framework/Resources/bin/R BANDITS.buildbin-libdir StartedAt: 2025-10-15 17:28:36 -0400 (Wed, 15 Oct 2025) EndedAt: 2025-10-15 17:29:40 -0400 (Wed, 15 Oct 2025) EllapsedTime: 64.4 seconds RetCode: 0 Status: OK PackageFile: BANDITS_1.24.1.tgz PackageFileSize: 1.605 MiB