Package: BAGS Version: 2.48.0 Command: /home/biocbuild/bbs-3.21-bioc/R/bin/R CMD check --install=check:BAGS.install-out.txt --library=/home/biocbuild/bbs-3.21-bioc/R/site-library --timings BAGS_2.48.0.tar.gz StartedAt: 2025-10-01 20:59:29 -0400 (Wed, 01 Oct 2025) EndedAt: 2025-10-01 21:00:34 -0400 (Wed, 01 Oct 2025) EllapsedTime: 65.1 seconds RetCode: 0 Status: OK CheckDir: BAGS.Rcheck Warnings: 0