Package: BAGS Version: 2.48.0 Command: rm -rf BAGS.buildbin-libdir && mkdir BAGS.buildbin-libdir && /Users/biocbuild/BBS/utils/build-universal.sh BAGS_2.48.0.tar.gz /Library/Frameworks/R.framework/Resources/bin/R BAGS.buildbin-libdir StartedAt: 2025-10-14 12:51:52 -0400 (Tue, 14 Oct 2025) EndedAt: 2025-10-14 12:52:03 -0400 (Tue, 14 Oct 2025) EllapsedTime: 10.7 seconds RetCode: 0 Status: OK PackageFile: BAGS_2.48.0.tgz PackageFileSize: 317.4 KiB