Package: BADER Version: 1.46.0 Command: rm -rf BADER.buildbin-libdir && mkdir BADER.buildbin-libdir && /Users/biocbuild/BBS/utils/build-universal.sh BADER_1.46.0.tar.gz /Library/Frameworks/R.framework/Resources/bin/R BADER.buildbin-libdir StartedAt: 2025-04-21 22:26:37 -0400 (Mon, 21 Apr 2025) EndedAt: 2025-04-21 22:26:40 -0400 (Mon, 21 Apr 2025) EllapsedTime: 3.1 seconds RetCode: 0 Status: OK PackageFile: BADER_1.46.0.tgz PackageFileSize: 258.4 KiB