Package: BADER Version: 1.46.0 Command: /Library/Frameworks/R.framework/Resources/bin/R CMD INSTALL BADER StartedAt: 2025-10-13 15:17:11 -0400 (Mon, 13 Oct 2025) EndedAt: 2025-10-13 15:17:21 -0400 (Mon, 13 Oct 2025) EllapsedTime: 10.0 seconds RetCode: 0 Status: OK