Package: BADER Version: 1.46.0 Command: /Library/Frameworks/R.framework/Resources/bin/R CMD build --keep-empty-dirs --no-resave-data BADER StartedAt: 2025-10-13 19:24:53 -0400 (Mon, 13 Oct 2025) EndedAt: 2025-10-13 19:25:20 -0400 (Mon, 13 Oct 2025) EllapsedTime: 26.5 seconds RetCode: 0 Status: OK PackageFile: BADER_1.46.0.tar.gz PackageFileSize: 238.5 KiB