Package: AssessORF Version: 1.26.0 Command: chmod a+r AssessORF -R && E:\biocbuild\bbs-3.21-bioc\R\bin\R.exe CMD build --keep-empty-dirs --no-resave-data AssessORF StartedAt: 2025-08-14 17:23:53 -0400 (Thu, 14 Aug 2025) EndedAt: 2025-08-14 17:24:50 -0400 (Thu, 14 Aug 2025) EllapsedTime: 57.0 seconds RetCode: 0 Status: OK PackageFile: AssessORF_1.26.0.tar.gz PackageFileSize: 4.701 MiB