Package: AssessORF Version: 1.26.0 Command: rm -rf AssessORF.buildbin-libdir && mkdir AssessORF.buildbin-libdir && E:\biocbuild\bbs-3.21-bioc\R\bin\R.exe CMD INSTALL --build --library=AssessORF.buildbin-libdir AssessORF_1.26.0.tar.gz StartedAt: 2025-08-15 08:46:53 -0400 (Fri, 15 Aug 2025) EndedAt: 2025-08-15 08:47:15 -0400 (Fri, 15 Aug 2025) EllapsedTime: 22.0 seconds RetCode: 0 Status: OK PackageFile: AssessORF_1.26.0.zip PackageFileSize: 4.797 MiB